BEGIN:VCALENDAR
VERSION:2.0
METHOD:PUBLISH
PRODID:-//imacoda.com//SPD-Web-O-Mat//EN
CALSCALE:GREGORIAN
BEGIN:VTIMEZONE
TZID:Europe/Berlin
BEGIN:DAYLIGHT
TZOFFSETFROM:+0100
RRULE:FREQ=YEARLY;BYMONTH=3;BYDAY=-1SU
DTSTART:19810329T020000
TZNAME:MESZ
TZOFFSETTO:+0200
END:DAYLIGHT
BEGIN:STANDARD
TZOFFSETFROM:+0200
RRULE:FREQ=YEARLY;BYMONTH=10;BYDAY=-1SU
DTSTART:19961027T030000
TZNAME:MEZ
TZOFFSETTO:+0100
END:STANDARD
END:VTIMEZONE
BEGIN:VEVENT
UID:20191003T051210Z-00000485553-LULU@www.bayernspd.de
CREATED:20191003T051210Z
LAST-MODIFIED:20191003T051210Z
DTSTAMP:20191003T051210Z
TRANSP:TRANSPARENT
DTSTART;TZID=Europe/Berlin:20191027T103000
DTEND;TZID=Europe/Berlin:20191027T103000
SUMMARY:Politischer Frühschoppen mit OB-Kandidat Dirk Wurm
LOCATION:Festzelt auf der Lechhauser Kirchweih
DESCRIPTION:Termin im Web (SPD Lechhausen):\nhttps://spd-lechhausen.de/t
 ermine/?id=485553
END:VEVENT
END:VCALENDAR
